BEGIN:VCALENDAR
VERSION:2.0
PRODID:-//NWS - ECPv6.4.0.1//NONSGML v1.0//EN
CALSCALE:GREGORIAN
METHOD:PUBLISH
X-ORIGINAL-URL:https://nwsnext.com
X-WR-CALDESC:Events for NWS
REFRESH-INTERVAL;VALUE=DURATION:PT1H
X-Robots-Tag:noindex
X-PUBLISHED-TTL:PT1H
BEGIN:VTIMEZONE
TZID:America/Toronto
BEGIN:DAYLIGHT
TZOFFSETFROM:-0500
TZOFFSETTO:-0400
TZNAME:EDT
DTSTART:20260308T070000
END:DAYLIGHT
BEGIN:STANDARD
TZOFFSETFROM:-0400
TZOFFSETTO:-0500
TZNAME:EST
DTSTART:20261101T060000
END:STANDARD
END:VTIMEZONE
BEGIN:VEVENT
DTSTART;VALUE=DATE:20260420
DTEND;VALUE=DATE:20260424
DTSTAMP:20260421T014043
CREATED:20260414T162442Z
LAST-MODIFIED:20260414T162528Z
UID:10000026-1776643200-1776988799@nwsnext.com
SUMMARY:AFCOM Data Center World 2026
DESCRIPTION:[vc_row][vc_column width=”1/2″][vc_single_image image=”30665″ img_size=”full”][/vc_column][vc_column width=”1/2″][vc_column_text] \n\n\nNWS Is Headed to AFCOM Data Center World 2026\nNWS is excited to participate in AFCOM Data Center World 2026\, the premier conference and expo for data center infrastructure\, operations\, and innovation. Hosted in partnership with AFCOM\, the event brings together data center operators\, IT leaders\, engineers\, and solution providers focused on powering the future of mission‑critical facilities. \nEvent Details \n\nWhen: April 20–23\, 2026\nWhere: Walter E. Washington Convention Center\, Washington\, D.C.\nBooth: #445\n\n\n[/vc_column_text][/vc_column][/vc_row]
URL:https://nwsnext.com/event/afcom-data-center-world-2026/
LOCATION:Walter E. Washington Convention Center\, 801 Mt. Vernon Place\, NW\, Washington\, DC\, DC\, 20001\, United States
END:VEVENT
BEGIN:VEVENT
DTSTART;VALUE=DATE:20260421
DTEND;VALUE=DATE:20260423
DTSTAMP:20260421T014043
CREATED:20260414T165320Z
LAST-MODIFIED:20260414T165320Z
UID:10000027-1776729600-1776902399@nwsnext.com
SUMMARY:STAC 2026
DESCRIPTION:[vc_row][vc_column width=”1/2″][vc_single_image image=”30671″ img_size=”full”][/vc_column][vc_column width=”1/2″][vc_column_text] \n\n\nNWS Is Headed to STAC 2026\nNWS will be participating in STAC 2026\, Canada’s premier conference dedicated to telecommunications tower and infrastructure safety\, engineering\, and best practices. Hosted by the Structure\, Tower & Antenna Council (STAC)\, the event brings together wireless carriers\, broadcasters\, engineers\, contractors\, and infrastructure professionals from across Canada. \nEvent Details \n\nWhen: April 21–22\, 2026\nWhere: Fairmont Château Laurier\, Ottawa\, ON\, Canada\nBooth: TBD\n\n\n[/vc_column_text][/vc_column][/vc_row]
URL:https://nwsnext.com/event/stac-2026/
LOCATION:Fairmont Château Laurier\, 1 Rideau St\,\, Ottawa\, ON\, K1N 8s&\, Canada
END:VEVENT
END:VCALENDAR